BEGIN:VCALENDAR
VERSION:2.0
PRODID:-//Durbanite - ECPv6.14.2//NONSGML v1.0//EN
CALSCALE:GREGORIAN
METHOD:PUBLISH
X-ORIGINAL-URL:https://www.durbanite.co.za
X-WR-CALDESC:Events for Durbanite
REFRESH-INTERVAL;VALUE=DURATION:PT1H
X-Robots-Tag:noindex
X-PUBLISHED-TTL:PT1H
BEGIN:VTIMEZONE
TZID:Africa/Johannesburg
BEGIN:STANDARD
TZOFFSETFROM:+0200
TZOFFSETTO:+0200
TZNAME:SAST
DTSTART:20250101T000000
END:STANDARD
END:VTIMEZONE
BEGIN:VEVENT
DTSTART;TZID=Africa/Johannesburg:20251117T180000
DTEND;TZID=Africa/Johannesburg:20251208T190000
DTSTAMP:20260421T044041
CREATED:20251127T095507Z
LAST-MODIFIED:20251211T124346Z
UID:18007-1763402400-1765220400@www.durbanite.co.za
SUMMARY:Learn to Sokkie!
DESCRIPTION:Get ready for Year-End Parties and New Year’s Eve with our fun\, relaxed 4-week Beginner / Refresher Sokkie Course!\n\n\nKloof Scout Hall\nMondays: 17 November\, 24 November\, 1 December\, 8 December 2025\n6–7pm\nNo partner? No problem! We’ve got friendly assistants ready to dance with you.\n\nWhat to expect: \n\nStep-by-step teaching – perfect for total beginners or anyone wanting a confidence boost.\nGreat exercise\, great people\, and plenty of laughs.\nRegular socials to practice your moves and meet other dancers!\n\nR300 per person for all 4 weeks\nSpaces are limited – don’t miss out on the last course of the year!\nWhatsApp Leigh on 083 777 3856 to book your spot!
URL:https://www.durbanite.co.za/event/learn-to-sokkie/
LOCATION:Kloof Scout Hall\, 14 Buckingham Road\, Kloof\, Durban\, KwaZulu-Natal\, 3610\, South Africa
CATEGORIES:Dance,Entertainment
ATTACH;FMTTYPE=image/png:https://www.durbanite.co.za/wp-content/uploads/2025/11/Sokkie.png
ORGANIZER;CN="Dance2Dance Studio":MAILTO:info@d2di.co.za
END:VEVENT
END:VCALENDAR