BEGIN:VCALENDAR
VERSION:2.0
PRODID:-//Durbanite - ECPv6.14.2//NONSGML v1.0//EN
CALSCALE:GREGORIAN
METHOD:PUBLISH
X-ORIGINAL-URL:https://www.durbanite.co.za
X-WR-CALDESC:Events for Durbanite
REFRESH-INTERVAL;VALUE=DURATION:PT1H
X-Robots-Tag:noindex
X-PUBLISHED-TTL:PT1H
BEGIN:VTIMEZONE
TZID:Africa/Johannesburg
BEGIN:STANDARD
TZOFFSETFROM:+0200
TZOFFSETTO:+0200
TZNAME:SAST
DTSTART:20260101T000000
END:STANDARD
END:VTIMEZONE
BEGIN:VEVENT
DTSTART;TZID=Africa/Johannesburg:20260301T060000
DTEND;TZID=Africa/Johannesburg:20260301T090000
DTSTAMP:20260420T153900
CREATED:20260216T141657Z
LAST-MODIFIED:20260216T142351Z
UID:19131-1772344800-1772355600@www.durbanite.co.za
SUMMARY:KZN Trail Running - Cascades
DESCRIPTION:𝗤𝗨𝗜𝗖𝗞 𝗜𝗡𝗙𝗢: Sunday\, 01 March 2026 Cascades Lifestyle Centre\, Pietermaritzburg 18km | 10km | 5km R230 | R195 | R135 6:30am | 7:00am | 7:30am & Registration from 6:00am\n U18s pay half price  Pensioners get 25% offWalkers are welcome on the short and medium courses! \nBUY TICKETS HERE \nThe Cascades Trail Run returns to the heart of Pietermaritzburg\, offering runners a unique trail experience on a purpose-built trail network right on the city’s doorstep. \nThis much-loved venue blends flowing single-track\, lush forests\, and plantation trails into a route that feels wild and immersive — yet is only minutes from urban comforts. \nSet among gum and pine plantations\, indigenous forest pockets\, and even sections of bamboo\, the trails deliver constant variety and beautiful views over the city below. The area is rich in biodiversity\, with towering lemonwood and yellowwood trees\, regular sightings of bushbuck\, and abundant birdlife — and if you’re really lucky\, you might even spot the majestic crowned eagle overhead. \nLonger routes head out along the Ferncliffe ridgeline before turning back toward the city on fast\, flowing trails\, giving runners a true trail running experience in a compact\, accessible setting. Whether you’re lining up for the 18km\, enjoying the 10km\, or bringing friends and family along for the 5km\, Cascades offers something for everyone — from dedicated trail runners to first-timers. \nWith the venue located right next to Cascades Lifestyle Centre\, runners and supporters can look forward to great on-site facilities\, easy access\, and a relaxed\, social race-day atmosphere. It’s the perfect way to spend a Sunday morning on the trails. \nBUY TICKETS HERE
URL:https://www.durbanite.co.za/event/kzn-trail-running-cascades/
CATEGORIES:Fitness,Sport
ATTACH;FMTTYPE=image/jpeg:https://www.durbanite.co.za/wp-content/uploads/2026/02/cascades.jpg
ORGANIZER;CN="KZN Trail Running":MAILTO:info@kzntrailrunning.co.za
END:VEVENT
BEGIN:VEVENT
DTSTART;TZID=Africa/Johannesburg:20260307T053000
DTEND;TZID=Africa/Johannesburg:20260307T163000
DTSTAMP:20260420T153900
CREATED:20260130T131957Z
LAST-MODIFIED:20260130T132136Z
UID:18846-1772861400-1772901000@www.durbanite.co.za
SUMMARY:KZN Trail Running - Drakensberg Northern Trail
DESCRIPTION:𝗤𝗨𝗜𝗖𝗞 𝗜𝗡𝗙𝗢 \n\n The Border Post\, Northern Drakensberg\n Saturday\, 7 March 2026\n Distances\, Start Times and Prices:40km | 5:30am | R1\,09020km | 6:30am | R59011km | 7:00am | R250\n7km | 7:15am | R150\nDiscounts: U18s pay half price and pensioners save 25%!\nRegistration & late entries from 6:00am (R50 late entry fee applies to adults)\n\n  \n\nThe Drakensberg Northern Trail returns for its 11th edition\, taking us back to an iconic and much-loved venue — The Border Post. This historic setting delivers big mountain energy\, unfiltered trail beauty\, and that unmistakable DNT atmosphere runners have come to love over the past decade.\n  \n\nSince its launch\, DNT has grown into one of KZNTR’s flagship events\, drawing runners from across the country to test themselves against the rugged terrain and breathtaking scenery of the northern Drakensberg. This year\, we’re thrilled to return to The Border Post\, where open ridgelines\, steep climbs\, wild mountain weather\, and expansive views combine for a truly unforgettable trail experience.\n  \n\nWhether you’re tackling the demanding 42km Mountain Marathon\, taking on the 20km challenge\, or enjoying the accessible 11km and 7km options\, DNT offers something for every trail runner — from seasoned mountain athletes to families looking for a memorable adventure.\nA strong community feel has always defined DNT\, and the 11th edition continues that tradition. With plenty of accommodation options nearby\, runners can settle in for a full trail weekend and make the most of their time in the mountains. \n\n Early Bird Special: Save 10% on entries until 9 January 2026\n👣 Walkers are welcome on the the 7km and 11km routes!\n  \n\nENTER HERE
URL:https://www.durbanite.co.za/event/kzn-trail-running-drakensberg-northern-trail-2026/
CATEGORIES:Fitness,Sport
ATTACH;FMTTYPE=image/png:https://www.durbanite.co.za/wp-content/uploads/2026/01/northern-trail-2.png
ORGANIZER;CN="KZN Trail Running":MAILTO:info@kzntrailrunning.co.za
END:VEVENT
BEGIN:VEVENT
DTSTART;TZID=Africa/Johannesburg:20260315T060000
DTEND;TZID=Africa/Johannesburg:20260315T090000
DTSTAMP:20260420T153900
CREATED:20260216T143620Z
LAST-MODIFIED:20260216T143620Z
UID:19139-1773554400-1773565200@www.durbanite.co.za
SUMMARY:KZN Trail Running - Bisley Nature Reserve
DESCRIPTION:𝗤𝗨𝗜𝗖𝗞 𝗜𝗡𝗙𝗢\nBisley Nature Reserve\, Pietermaritzburg\nSunday\, 15 March 2026\n18km | 6:30am | R230\n10km | 7:00am | R195\n5km | 7:30am | R135\nDiscounts: U18s pay half price and pensioners save 25%!\nOnline entries close on Friday\, 14 March 2026.\nRegistration & late entries from 6:00am (R50 late entry fee applies to adults) \nENTER HERE \nGet ready to experience the thrill of the Bisley Nature Reserve TR!\nSet in the beautiful Bisley Nature Reserve\, this event takes participants on an adventure through this hidden gem on PMB’s door-step. Soak in the game reserve’s breath-taking scenery\, wildlife and sense of peace. \nWinding through open grasslands and thornveld\, the routes showcase the raw beauty of this unique landscape. Just minutes from Pietermaritzburg\, it is the perfect escape for a day of fresh air\, adventure and pure trail experience. \nCome join us for a day out in nature – you will make memories\, test your legs and leave with a smile.\nWalkers are welcome on the short and medium courses. \nENTER HERE
URL:https://www.durbanite.co.za/event/kzn-trail-running-bisley-nature-reserve/
CATEGORIES:Fitness,Sport
ATTACH;FMTTYPE=image/jpeg:https://www.durbanite.co.za/wp-content/uploads/2026/02/bisley.jpg
ORGANIZER;CN="KZN Trail Running":MAILTO:info@kzntrailrunning.co.za
END:VEVENT
BEGIN:VEVENT
DTSTART;TZID=Africa/Johannesburg:20260321T080000
DTEND;TZID=Africa/Johannesburg:20260321T120000
DTSTAMP:20260420T153900
CREATED:20260119T131830Z
LAST-MODIFIED:20260119T133951Z
UID:18364-1774080000-1774094400@www.durbanite.co.za
SUMMARY:TMG Colour Run
DESCRIPTION:Thekwini Motor Group Colour Run 2026\nGet ready to run\, laugh\, dance\, and get absolutely COVERED IN COLOUR! \nOur TMG Annual Colour Run returns and it’s going to be bigger\, brighter\, and more colourful than ever!\nWhether you’re a seasoned runner or just in it for the fun\, this day is for everyone – families\, friends\, fitness lovers\, and festival goers alike.\n  \n\n\n\n\n\n\n 21st March 2026\n Westville Country Club\n Music\, food\, vendors & a whole lot of COLOUR!\n\n  \nYou won’t want to miss this explosion of joy! BOOK TICKETS HERE!
URL:https://www.durbanite.co.za/event/tmg-colour-run-2026/
CATEGORIES:Entertainment,Fitness
ATTACH;FMTTYPE=image/png:https://www.durbanite.co.za/wp-content/uploads/2026/01/colourrun.png
END:VEVENT
BEGIN:VEVENT
DTSTART;TZID=Africa/Johannesburg:20260322T060000
DTEND;TZID=Africa/Johannesburg:20260322T090000
DTSTAMP:20260420T153900
CREATED:20260217T093341Z
LAST-MODIFIED:20260217T093341Z
UID:19145-1774159200-1774170000@www.durbanite.co.za
SUMMARY:KZN Trail Running - Tala Game Reserve
DESCRIPTION:𝗤𝗨𝗜𝗖𝗞 𝗜𝗡𝗙𝗢Rockpools\, Tala Game Reserve\, CamperdownSunday\, 22 March 2026\n𝗗𝗶𝘀𝘁𝗮𝗻𝗰𝗲 | 𝗦𝘁𝗮𝗿𝘁 𝗧𝗶𝗺𝗲 | 𝗘𝗻𝘁𝗿𝘆 𝗙𝗲𝗲– 30km | 6am | R290– 20km | 6:30am | R230– 10km | 7am | R195– 5km | 7:30am | R135 \n\nDiscounts: U18s pay half price and pensioners save 25%!\nEarly Bird special: get 10% off our standard entry fee when entering before midnight on Friday February 27 February 2026\nRegistration & late entries from 5:30am (R50 late entry fee applies to adults)\n\nENTER HERE\n\n\nNow in its fourth year\, the Tala Trail Run is back at the stunning Tala Collection Game Reserve for another unforgettable adventure. \nWe are excited to invite you to explore the beautiful bushveld\, sugar cane fields and farmlands\, where you might catch sight of majestic kudus\, watchful giraffes\, swift wildebeests and regal elands. \nThe race will take you past dams and rolling grasslands\, allowing natures peace to settle over you as your strides sync with the rhythm of the bush. \n\nUnlike our other standard weekend events\, Tala offers a 30km extended course\, for those looking to push their distance\, or training for a goal-race. \nWhether you’re here for the wildlife\, the views\, or a challenging trail\, the Tala Trail Run is not your average weekend trail experience!\n\n\nENTER HERE
URL:https://www.durbanite.co.za/event/kzn-trail-running-tala-game-reserve/
CATEGORIES:Fitness,Sport
ATTACH;FMTTYPE=image/jpeg:https://www.durbanite.co.za/wp-content/uploads/2026/02/tala.jpg
ORGANIZER;CN="KZN Trail Running":MAILTO:info@kzntrailrunning.co.za
END:VEVENT
END:VCALENDAR