BEGIN:VCALENDAR
VERSION:2.0
PRODID:-//Durbanite - ECPv6.14.2//NONSGML v1.0//EN
CALSCALE:GREGORIAN
METHOD:PUBLISH
X-ORIGINAL-URL:https://www.durbanite.co.za
X-WR-CALDESC:Events for Durbanite
REFRESH-INTERVAL;VALUE=DURATION:PT1H
X-Robots-Tag:noindex
X-PUBLISHED-TTL:PT1H
BEGIN:VTIMEZONE
TZID:Africa/Johannesburg
BEGIN:STANDARD
TZOFFSETFROM:+0200
TZOFFSETTO:+0200
TZNAME:SAST
DTSTART:20260101T000000
END:STANDARD
END:VTIMEZONE
BEGIN:VEVENT
DTSTART;TZID=Africa/Johannesburg:20260503T060000
DTEND;TZID=Africa/Johannesburg:20260503T090000
DTSTAMP:20260420T153900
CREATED:20260407T190203Z
LAST-MODIFIED:20260407T190203Z
UID:19400-1777788000-1777798800@www.durbanite.co.za
SUMMARY:KZN Trail Running - Treverton College
DESCRIPTION:𝗤𝗨𝗜𝗖𝗞 𝗜𝗡𝗙𝗢: Sunday\, 03 May 2026 Treverton College\, Mooi River 18km | 11km | 6km R230 | R195 | R135 7:00am | 7:30am | 7:45am & Registration from 6:30am R230 | R195 | R135 U18s pay half price  Pensioners get 25% offWalkers are welcome on the short and medium courses! \nBOOK TICKETS HERE \nSet in the heart of the KwaZulu-Natal Midlands\, near the meandering Mooi River\, Treverton offers a scenic trail experience that feels both accessible and rewarding. Winding through open grasslands\, pockets of forest\, rolling farmlands\, and past tranquil dams\, the route invites runners to enjoy the scenery while still having a solid day out on the trails.\n\nThe course blends flowing paths with gentle climbs and smooth descents\, giving just enough challenge to keep things interesting while remaining welcoming for all runners. Expect varied terrain\, fresh air\, and that satisfying rhythm that comes with being out in nature.\n\nThis is the first time Treverton is opening its trails to runners\, making it a special opportunity to be part of a brand-new Midlands trail event.\n\nIt’s a relaxed and enjoyable way to get out on the trails\, take in the countryside\, and experience the charm of the Midlands in a friendly\, welcoming environment.\n\nEarly Bird Special: Enter before Friday\, 10 April midnight and enjoy 10% off your entry!Online entries close at midnight on Friday\, 01 May 2026.\n\nBOOK TICKETS HERE
URL:https://www.durbanite.co.za/event/kzn-trail-running-treverton-college/
CATEGORIES:Fitness,Sport
ATTACH;FMTTYPE=image/jpeg:https://www.durbanite.co.za/wp-content/uploads/2026/04/KZNTRAIL-TREVERTON.jpg
ORGANIZER;CN="KZN Trail Running":MAILTO:info@kzntrailrunning.co.za
END:VEVENT
BEGIN:VEVENT
DTSTART;TZID=Africa/Johannesburg:20260516T060000
DTEND;TZID=Africa/Johannesburg:20260516T120000
DTSTAMP:20260420T153900
CREATED:20260407T191039Z
LAST-MODIFIED:20260407T191039Z
UID:19403-1778911200-1778932800@www.durbanite.co.za
SUMMARY:KZN Trail Running - Mnweni Marathon
DESCRIPTION:𝗤𝗨𝗜𝗖𝗞 𝗜𝗡𝗙𝗢: Sunday\, 16 May 2026 Mnweni Cultural and Hiking Centre 40km | 20km | 10km R1\,090.00 | R590.00 | R250.00 \nBOOK TICKETS HERE \nMnweni\, ‘the place of fingers’\, is located between the Royal Natal National Park and the Cathedral range in the heart of the Drakensberg escarpment. In years past\, this stretch of the Drakensberg was affectionately seen by hardy mountaineers as “remote and treacherous” as the paths are “long and steep”. The terrain is mountainous and the weather unpredictable. \nFounded in the winter of 2000 by trail-running pioneers Bruce Arnette and Mark Tannian\, this iconic race has grown from just 11 participants and the 40km is now LIMITED TO 250 participants. \nBOOK TICKETS HERE
URL:https://www.durbanite.co.za/event/kzn-trail-running-mnweni-marathon/
CATEGORIES:Fitness,Sport
ATTACH;FMTTYPE=image/jpeg:https://www.durbanite.co.za/wp-content/uploads/2026/04/KZNTRAIL-Mnweni.jpg
ORGANIZER;CN="KZN Trail Running":MAILTO:info@kzntrailrunning.co.za
END:VEVENT
BEGIN:VEVENT
DTSTART;VALUE=DATE:20260523
DTEND;VALUE=DATE:20260526
DTSTAMP:20260420T153900
CREATED:20260225T113051Z
LAST-MODIFIED:20260225T113051Z
UID:19202-1779494400-1779753599@www.durbanite.co.za
SUMMARY:Oceans 8 Charity Swim
DESCRIPTION:Open Water swimming event in Durban – ENTIRELY FOR CHARITY! \n“Oceans 8 is about shared purpose and the belief that when we come together\, we can strengthen the work already happening in our communities\,” says Nicci Carvalho\, event spokesperson. “It’s ordinary people doing something challenging and creating lasting impact.” \n\nVetch’s Beach at the Durban Undersea Club\n23 rd & 24 th (25 th ) May 2026\nSwim 1 Mile\, 4 Miles\, 8 Miles or 16 Miles\n\nENTER HERE
URL:https://www.durbanite.co.za/event/oceans-8-charity-swim/
CATEGORIES:Charity,Fitness,Sport
ATTACH;FMTTYPE=image/jpeg:https://www.durbanite.co.za/wp-content/uploads/2026/02/oceans8.jpg
END:VEVENT
END:VCALENDAR