BEGIN:VCALENDAR
VERSION:2.0
PRODID:-//Durbanite - ECPv6.14.2//NONSGML v1.0//EN
CALSCALE:GREGORIAN
METHOD:PUBLISH
X-WR-CALNAME:Durbanite
X-ORIGINAL-URL:https://www.durbanite.co.za
X-WR-CALDESC:Events for Durbanite
REFRESH-INTERVAL;VALUE=DURATION:PT1H
X-Robots-Tag:noindex
X-PUBLISHED-TTL:PT1H
BEGIN:VTIMEZONE
TZID:Africa/Johannesburg
BEGIN:STANDARD
TZOFFSETFROM:+0200
TZOFFSETTO:+0200
TZNAME:SAST
DTSTART:20260101T000000
END:STANDARD
END:VTIMEZONE
BEGIN:VEVENT
DTSTART;TZID=Africa/Johannesburg:20260221T190000
DTEND;TZID=Africa/Johannesburg:20260531T180000
DTSTAMP:20260420T173648
CREATED:20260216T114406Z
LAST-MODIFIED:20260216T114406Z
UID:19125-1771700400-1780250400@www.durbanite.co.za
SUMMARY:Barnyard - Big Top Rock
DESCRIPTION:Step into a world where the roar of electric guitars collides with the gasp of the crowd — Big Top Rock is back\, bigger\, bolder\, and more breathtaking than ever! \nThis is no ordinary concert. It’s a full-throttle rock and roll circus spectacular — a high-voltage fusion of iconic anthems\, jaw-dropping aerial artistry\, and an atmosphere so electric you’ll feel it in your bones. \nFrom the first crashing chord to the final heart-pounding encore\, you’ll be swept into a whirlwind of sound\, light\, and pure adrenaline. \n📆 21 February – 31 May 2026 \n📍 The Barnyard Theatre – Suncoast Casino \n🎟️ Tickets from R260pp \nGET 5% DISCOUNT – use coupon code: DURBS \nBUY TICKETS HERE
URL:https://www.durbanite.co.za/event/barnyard-big-top-rock/
LOCATION:Suncoast Casino\, Suncoast Boulevard\, Durban Beach\, Durban\, KZN\, 4056\, South Africa
CATEGORIES:Art,Dance,Entertainment,Music
ATTACH;FMTTYPE=image/png:https://www.durbanite.co.za/wp-content/uploads/2026/02/barnyard-1-2.png
END:VEVENT
BEGIN:VEVENT
DTSTART;TZID=Africa/Johannesburg:20260425T090000
DTEND;TZID=Africa/Johannesburg:20260502T120000
DTSTAMP:20260420T173648
CREATED:20260313T102449Z
LAST-MODIFIED:20260313T124729Z
UID:19280-1777107600-1777723200@www.durbanite.co.za
SUMMARY:Veranda Panda Wake and Shake Tour
DESCRIPTION:Wake up. Dance hard. Drink great coffee. \nVeranda Panda are back with their early-morning coffee rave series “Wake & Shake.” \nWhat began as a fresh take on the morning routine has grown into a vibrant community gathering\, travelling across KZN from the Coast to the Midlands. Each event transforms an ordinary morning into something far more electric — a shared moment of music\, movement\, and connection. \nPart dance floor\, part coffee hangout\, Wake & Shake invites people to start the day differently.\nFamilies\, friends\, and early risers come together for an energising morning ritual built around rhythm\, expression\, and seriously good coffee. \nLed by the colourful electronic duo Veranda Panda\, the experience blends live performance with an open\, welcoming atmosphere where everyone is free to move\, dress\, and express themselves however they like. \nIn a world where people are increasingly searching for genuine connection\, Wake & Shake creates space for exactly that — a place where strangers become friends\, kids dance alongside parents\, and the day begins with shared energy rather than screens and routines. \nFamily-friendly\, high-energy\, and rooted in the spirit of KZN\, Wake & Shake is about starting the day awake\, connected\, and alive. \nTickets from only R50pp! \nTour Lineup \n\nSat 25 April: Lineage (Notties) @ 9am – Book Tickets Here\nSun 26 April: Old Mushroom Farm (Howick) @ 9am – Book Tickets Here\nMon 27 April: Lineage (Hillcrest) @ 7am – Book Tickets Here\nMon 27 April: Tipsy Flamingo (Kloof)@ 10am – Book Tickets Here\nWed 29 April: Kico Life (Ballito) @ 4pm – Book Tickets Here\nThur 30 April: Now Coffee (Umhlanga) @ 6:30am – Book Tickets Here\nFri 1 May: Wild Coffee (Scottburgh) @ 8am – Book Tickets Here\nSat 2 May: Salt & Citrus (eMdloti) @ 7am – Book Tickets Here
URL:https://www.durbanite.co.za/event/veranda-panda-wake-and-shake-tour-2/
CATEGORIES:Dance,Entertainment,Music
ATTACH;FMTTYPE=image/jpeg:https://www.durbanite.co.za/wp-content/uploads/2026/03/shakeandwake.jpg
END:VEVENT
BEGIN:VEVENT
DTSTART;TZID=Africa/Johannesburg:20260503T060000
DTEND;TZID=Africa/Johannesburg:20260503T090000
DTSTAMP:20260420T173648
CREATED:20260407T190203Z
LAST-MODIFIED:20260407T190203Z
UID:19400-1777788000-1777798800@www.durbanite.co.za
SUMMARY:KZN Trail Running - Treverton College
DESCRIPTION:𝗤𝗨𝗜𝗖𝗞 𝗜𝗡𝗙𝗢: Sunday\, 03 May 2026 Treverton College\, Mooi River 18km | 11km | 6km R230 | R195 | R135 7:00am | 7:30am | 7:45am & Registration from 6:30am R230 | R195 | R135 U18s pay half price  Pensioners get 25% offWalkers are welcome on the short and medium courses! \nBOOK TICKETS HERE \nSet in the heart of the KwaZulu-Natal Midlands\, near the meandering Mooi River\, Treverton offers a scenic trail experience that feels both accessible and rewarding. Winding through open grasslands\, pockets of forest\, rolling farmlands\, and past tranquil dams\, the route invites runners to enjoy the scenery while still having a solid day out on the trails.\n\nThe course blends flowing paths with gentle climbs and smooth descents\, giving just enough challenge to keep things interesting while remaining welcoming for all runners. Expect varied terrain\, fresh air\, and that satisfying rhythm that comes with being out in nature.\n\nThis is the first time Treverton is opening its trails to runners\, making it a special opportunity to be part of a brand-new Midlands trail event.\n\nIt’s a relaxed and enjoyable way to get out on the trails\, take in the countryside\, and experience the charm of the Midlands in a friendly\, welcoming environment.\n\nEarly Bird Special: Enter before Friday\, 10 April midnight and enjoy 10% off your entry!Online entries close at midnight on Friday\, 01 May 2026.\n\nBOOK TICKETS HERE
URL:https://www.durbanite.co.za/event/kzn-trail-running-treverton-college/
CATEGORIES:Fitness,Sport
ATTACH;FMTTYPE=image/jpeg:https://www.durbanite.co.za/wp-content/uploads/2026/04/KZNTRAIL-TREVERTON.jpg
ORGANIZER;CN="KZN Trail Running":MAILTO:info@kzntrailrunning.co.za
END:VEVENT
BEGIN:VEVENT
DTSTART;TZID=Africa/Johannesburg:20260509T160000
DTEND;TZID=Africa/Johannesburg:20260509T190000
DTSTAMP:20260420T173648
CREATED:20260304T125653Z
LAST-MODIFIED:20260304T133639Z
UID:19262-1778342400-1778353200@www.durbanite.co.za
SUMMARY:Hollywoodbets Sharks vs Benetton Rugby
DESCRIPTION:MZANZI let’s support our boys!! \nHollywoodbets Sharks vs Benetton Rugby \n\nDate: Saturday 9 May 2026 | 4pm\nVenue: Home Game – Hollywoodbets Kings Park Stadium\n\nBUY YOUR TICKETS HERE
URL:https://www.durbanite.co.za/event/hollywoodbets-sharks-vs-benetton-rugby/
LOCATION:Kings Park Stadium\, 12 Isaiah Ntshangase Road\, Durban\, KZN\, 4001\, South Africa
CATEGORIES:Entertainment,Sport
ATTACH;FMTTYPE=image/jpeg:https://www.durbanite.co.za/wp-content/uploads/2026/03/sharks3may.jpg
END:VEVENT
BEGIN:VEVENT
DTSTART;TZID=Africa/Johannesburg:20260509T200000
DTEND;TZID=Africa/Johannesburg:20260509T230000
DTSTAMP:20260420T173648
CREATED:20260319T115305Z
LAST-MODIFIED:20260319T115305Z
UID:19323-1778356800-1778367600@www.durbanite.co.za
SUMMARY:Zack Knight - Reloaded
DESCRIPTION:Durban’s entertainment scene is turning up the heat over the next few months\, with a line-up of live shows set to bring music\, laughter and big-stage energy to the city. From internationally loved performers to homegrown comedic talent\, local audiences can look forward to a vibrant mix of events across some of Durban’s popular venues. \nKnown for his signature blend of R&B\, pop\, and South Asian influences\, Zack Knight is set to perform at The Globe\, Suncoast Casino on 9 May\, offering Durban audiences a chance to enjoy one of the most recognisable contemporary voices in the South Asian music space. \nBUY TICKETS HERE \nSee what other Blu Blood Entertainment is coming up here 
URL:https://www.durbanite.co.za/event/zack-knight-reloaded/
LOCATION:Suncoast Casino\, Suncoast Boulevard\, Durban Beach\, Durban\, KZN\, 4056\, South Africa
CATEGORIES:Entertainment,Music
ATTACH;FMTTYPE=image/jpeg:https://www.durbanite.co.za/wp-content/uploads/2026/03/blublood-king.jpg
ORGANIZER;CN="Blu Blood":MAILTO:info@blublood.com
END:VEVENT
BEGIN:VEVENT
DTSTART;TZID=Africa/Johannesburg:20260516T060000
DTEND;TZID=Africa/Johannesburg:20260516T120000
DTSTAMP:20260420T173648
CREATED:20260407T191039Z
LAST-MODIFIED:20260407T191039Z
UID:19403-1778911200-1778932800@www.durbanite.co.za
SUMMARY:KZN Trail Running - Mnweni Marathon
DESCRIPTION:𝗤𝗨𝗜𝗖𝗞 𝗜𝗡𝗙𝗢: Sunday\, 16 May 2026 Mnweni Cultural and Hiking Centre 40km | 20km | 10km R1\,090.00 | R590.00 | R250.00 \nBOOK TICKETS HERE \nMnweni\, ‘the place of fingers’\, is located between the Royal Natal National Park and the Cathedral range in the heart of the Drakensberg escarpment. In years past\, this stretch of the Drakensberg was affectionately seen by hardy mountaineers as “remote and treacherous” as the paths are “long and steep”. The terrain is mountainous and the weather unpredictable. \nFounded in the winter of 2000 by trail-running pioneers Bruce Arnette and Mark Tannian\, this iconic race has grown from just 11 participants and the 40km is now LIMITED TO 250 participants. \nBOOK TICKETS HERE
URL:https://www.durbanite.co.za/event/kzn-trail-running-mnweni-marathon/
CATEGORIES:Fitness,Sport
ATTACH;FMTTYPE=image/jpeg:https://www.durbanite.co.za/wp-content/uploads/2026/04/KZNTRAIL-Mnweni.jpg
ORGANIZER;CN="KZN Trail Running":MAILTO:info@kzntrailrunning.co.za
END:VEVENT
BEGIN:VEVENT
DTSTART;TZID=Africa/Johannesburg:20260516T133000
DTEND;TZID=Africa/Johannesburg:20260516T163000
DTSTAMP:20260420T173648
CREATED:20260304T130029Z
LAST-MODIFIED:20260304T133614Z
UID:19265-1778938200-1778949000@www.durbanite.co.za
SUMMARY:Hollywoodbets Sharks vs Zebre Parma
DESCRIPTION:MZANZI let’s support our boys!! \nHollywoodbets Sharks vs Zebre Parma \n\nDate: Saturday 16 May 2026 | 1:45pm\nVenue: Home Game – Hollywoodbets Kings Park Stadium\n\nBUY YOUR TICKETS HERE
URL:https://www.durbanite.co.za/event/hollywoodbets-sharks-vs-zebre-parma/
LOCATION:Kings Park Stadium\, 12 Isaiah Ntshangase Road\, Durban\, KZN\, 4001\, South Africa
CATEGORIES:Entertainment,Sport
ATTACH;FMTTYPE=image/jpeg:https://www.durbanite.co.za/wp-content/uploads/2026/03/sharks16may.jpg
END:VEVENT
BEGIN:VEVENT
DTSTART;VALUE=DATE:20260523
DTEND;VALUE=DATE:20260526
DTSTAMP:20260420T173648
CREATED:20260225T113051Z
LAST-MODIFIED:20260225T113051Z
UID:19202-1779494400-1779753599@www.durbanite.co.za
SUMMARY:Oceans 8 Charity Swim
DESCRIPTION:Open Water swimming event in Durban – ENTIRELY FOR CHARITY! \n“Oceans 8 is about shared purpose and the belief that when we come together\, we can strengthen the work already happening in our communities\,” says Nicci Carvalho\, event spokesperson. “It’s ordinary people doing something challenging and creating lasting impact.” \n\nVetch’s Beach at the Durban Undersea Club\n23 rd & 24 th (25 th ) May 2026\nSwim 1 Mile\, 4 Miles\, 8 Miles or 16 Miles\n\nENTER HERE
URL:https://www.durbanite.co.za/event/oceans-8-charity-swim/
CATEGORIES:Charity,Fitness,Sport
ATTACH;FMTTYPE=image/jpeg:https://www.durbanite.co.za/wp-content/uploads/2026/02/oceans8.jpg
END:VEVENT
BEGIN:VEVENT
DTSTART;TZID=Africa/Johannesburg:20260529T100000
DTEND;TZID=Africa/Johannesburg:20260530T230000
DTSTAMP:20260420T173648
CREATED:20260202T133616Z
LAST-MODIFIED:20260202T133712Z
UID:18857-1780048800-1780182000@www.durbanite.co.za
SUMMARY:Familie Fest 2026
DESCRIPTION:Join us for a vibrant live music concert celebrating the joy of family and friends! Featuring a stellar lineup of South African bands\, this all ages event promises unforgettable tunes\, lekker vibes\, and a day of togetherness under the open sky. \n– DETAILS –\nDate: Fri 29 & Sat 30 May 2026\nVenue: NU Driving Range Fields\, Hillcrest\nTime: 10am – 11:00pm\nAge: All ages – Over 18s at bar area only \n– LINE UP –\nFriday: Acoustic Sessions\nSaturday: Main Acts \n– EXPECT –\nLive Music\, Kids Zone\, Arts & Crafts\, Great Food & Drink\, Potjie Comp\, 4×4\, Races\, Driving Range\, Putt Putt\, Go Karts\, Paintball & more! \n– TICKETS –\nAdults Earlybird – From R199 (Bar area access)\nTeens – 13 to 17 years R149\nKids 4 to 12 years – R129\nKids under 4 – free\n…………. \nAllowed: Umbrellas\, camp chairs\, blankets\nNot Allowed: Coolerboxes\, food & drink\, weapons\, fireworks\, sound systems\, gazebos \n  \nBUY TICKETS HERE\n 
URL:https://www.durbanite.co.za/event/familie-fest-2026/
LOCATION:NU Driving Range Fields\, NU Driving Range Fields\, Hillcrest\, Durban\, South Africa
CATEGORIES:Entertainment,Music
ATTACH;FMTTYPE=image/png:https://www.durbanite.co.za/wp-content/uploads/2026/02/familiefest-2.png
END:VEVENT
END:VCALENDAR