BEGIN:VCALENDAR
VERSION:2.0
PRODID:-//Durbanite - ECPv6.14.2//NONSGML v1.0//EN
CALSCALE:GREGORIAN
METHOD:PUBLISH
X-WR-CALNAME:Durbanite
X-ORIGINAL-URL:https://www.durbanite.co.za
X-WR-CALDESC:Events for Durbanite
REFRESH-INTERVAL;VALUE=DURATION:PT1H
X-Robots-Tag:noindex
X-PUBLISHED-TTL:PT1H
BEGIN:VTIMEZONE
TZID:Africa/Johannesburg
BEGIN:STANDARD
TZOFFSETFROM:+0200
TZOFFSETTO:+0200
TZNAME:SAST
DTSTART:20250101T000000
END:STANDARD
END:VTIMEZONE
BEGIN:VEVENT
DTSTART;TZID=Africa/Johannesburg:20250821T193000
DTEND;TZID=Africa/Johannesburg:20250821T210000
DTSTAMP:20260421T132254
CREATED:20250805T073338Z
LAST-MODIFIED:20250805T073338Z
UID:17750-1755804600-1755810000@www.durbanite.co.za
SUMMARY:Barry Hilton - Audience Unplugged
DESCRIPTION:NORTHLANDS BOWLING CLUB50 Margaret Maytom Ave\, Durban North\nIn Association with The Rhumbelow TheatrePresents\nBARRY HILTONAUDIENCE UNPLUGGED\nTHURSDAY 21 AUGUST 2025\nShow starts 19.30We open 90 minutes before show \n\n“Audience Unplugged!”\nGet ready for an electrifying night of spontaneous laughter with Barry Hilton’s “Audience Unplugged” – where your suggestions ignite the comedy!\nWith no script in sight\, comedian Barry Hilton unleashes his impressive improv skills\, turning YOUR ideas into side-splitting punchlines on the spot!\nAs Barry takes the spotlight and the audience keeps him on his toes\, prepare for a hilariously unpredictable experience that will leave you roaring with laughter! Don’t miss out on the fun—join the excitement and be part of the show! \n\nR 200-00 a ticketNorthlands Bowling Club members R 180-00Bring food picnic baskets.\nLimited secure parking availableBooking is essential. \n\nFULL BAR AVAILABLE(no alcohol may be brought on to the premises)
URL:https://www.durbanite.co.za/event/barry-hilton-audience-unplugged/
LOCATION:Northlands Bowling Club\, 50 Margaret Maytom Ave\, Durban North\, Durban\, KZN\, South Africa
CATEGORIES:Entertainment
ATTACH;FMTTYPE=image/jpeg:https://www.durbanite.co.za/wp-content/uploads/2025/08/514248190_1526459198332736_1849399512736736479_n.jpg
END:VEVENT
END:VCALENDAR